BEGIN:VCALENDAR
VERSION:2.0
PRODID:-//eventon.com NONSGML v1.0//EN
CALSCALE:GREGORIAN
METHOD:PUBLISH
BEGIN:VEVENT
UID:69e5b68c43445
DTSTAMP:20260420T051556Z
DTSTART:20261215T180000Z
DTEND:20261215T225900Z
LOCATION:Feuerwehrhaus Unterbrunn Dorfstrasse 2\,  82131 Gauting – Unterbrunn
SUMMARY:Weihnachtsfeier
DESCRIPTION:Weihnachtsfeier\nhttps://feuerwehr-unterbrunn.de/termine/weihna
 chtsfeier/
URL:https://feuerwehr-unterbrunn.de/termine/weihnachtsfeier/
END:VEVENT
END:VCALENDAR