BEGIN:VCALENDAR
VERSION:2.0
PRODID:-//eventon.com NONSGML v1.0//EN
CALSCALE:GREGORIAN
METHOD:PUBLISH
BEGIN:VEVENT
UID:69e5b56a668b0
DTSTAMP:20260420T051106Z
DTSTART:20261111T160000Z
DTEND:20261111T225900Z
LOCATION:Feuerwehrhaus Unterbrunn Dorfstrasse 2\,  82131 Gauting – Unterbrunn
SUMMARY:St. Martin Umzug
DESCRIPTION:St. Martin Umzug Traditionell wird am 11. November mit Laternen
  durch Orte bzw. Straßen gezogen zum Gedenken an den Heiligen Martin. Am S
 t.-Martins-Tag leuchten auch in Unterbrunn allerlei Laternen und Klein und 
 Groß ziehen mit den selbstgebastelten Leuchten durch den Ort. Die Kinderfe
 uerwehr organisiert den St. Martinsumzug gemeinsam mit dem[..]\nhttps://feu
 erwehr-unterbrunn.de/termine/st-martin-umzug/
URL:https://feuerwehr-unterbrunn.de/termine/st-martin-umzug/
END:VEVENT
END:VCALENDAR