BEGIN:VCALENDAR
VERSION:2.0
PRODID:-//eventon.com NONSGML v1.0//EN
CALSCALE:GREGORIAN
METHOD:PUBLISH
BEGIN:VEVENT
UID:69e5b5d90b8ad
DTSTAMP:20260420T051257Z
DTSTART:20261124T180000Z
DTEND:20261124T200000Z
LOCATION:Feuerwehrhaus Unterbrunn Dorfstrasse 2\,  82131 Gauting – Unterbrunn
SUMMARY:Monatliche Übung aktive Wehr
DESCRIPTION:Übungstermine der aktiven Wehr – immer am letzten Dienstag i
 m Monat. Im Rahmen der Übungen finden die Unterweisungen nach den UVV stat
 t. Die Teilnahme an den Terminen ist Pflicht. Zusätzliche Termine für not
 wendige Fortbildungen werden gesondert bekanntgegeben. Änderungen aus aktu
 ellem Anlass bleiben vorbehalten. Im Anschluss sind alle aktiven\,  passive
 n Mitglieder[..]\nhttps://feuerwehr-unterbrunn.de/termine/uebung-aktive-weh
 r/var/ri-10.l-L1
URL:https://feuerwehr-unterbrunn.de/termine/uebung-aktive-wehr/var/ri-10.l-L1
END:VEVENT
END:VCALENDAR