BEGIN:VCALENDAR
VERSION:2.0
PRODID:-//eventon.com NONSGML v1.0//EN
CALSCALE:GREGORIAN
METHOD:PUBLISH
BEGIN:VEVENT
UID:69e5b691cd66c
DTSTAMP:20260420T051601Z
DTSTART:20261231T170000Z
DTEND:20261231T180000Z
LOCATION:Feuerwehrhaus Unterbrunn Dorfstrasse 2\,  82131 Gauting – Unterbrunn
SUMMARY:Übung Kinder-Feuerwehr
DESCRIPTION:Übungstermine der Kinderfeuerwehr – in der Regel am letzten 
 Donnerstag im Monat (Nicht in den Ferien und an Feiertagen) Du kannst jeder
 zeit bei einer Übung vorbeischauen und dann entscheiden\,  ob die Feuerweh
 r das richtige für dich ist. Wir freuen uns!\nhttps://feuerwehr-unterbrunn
 .de/termine/uebung-kinder-feuerwehr/var/ri-12.l-L1
URL:https://feuerwehr-unterbrunn.de/termine/uebung-kinder-feuerwehr/var/ri-12.l-L1
END:VEVENT
END:VCALENDAR