BEGIN:VCALENDAR
VERSION:2.0
PRODID:-//eventon.com NONSGML v1.0//EN
CALSCALE:GREGORIAN
METHOD:PUBLISH
BEGIN:VEVENT
UID:69e5b678ae007
DTSTAMP:20260420T051536Z
DTSTART:20260916T163000Z
DTEND:20260916T180000Z
LOCATION:Feuerwehrhaus Unterbrunn Dorfstrasse 2\,  82131 Gauting – Unterbrunn
SUMMARY:Übung Jugend-Feuerwehr
DESCRIPTION:Übungstermine der Jugendfeuerwehr – immer am 1. und 3. Mittw
 och im Monat (nicht an Feiertagen und nur außerhalb der Ferien) Du kannst 
 jederzeit bei einer Übung vorbeischauen und dann entscheiden\,  ob die Feu
 erwehr das richtige für dich ist. Wir freuen uns auf Dich!\nhttps://feuerw
 ehr-unterbrunn.de/termine/uebung-jugend-feuerwehr/var/ri-18.l-L1
URL:https://feuerwehr-unterbrunn.de/termine/uebung-jugend-feuerwehr/var/ri-18.l-L1
END:VEVENT
END:VCALENDAR