BEGIN:VCALENDAR
VERSION:2.0
PRODID:-//eventon.com NONSGML v1.0//EN
CALSCALE:GREGORIAN
METHOD:PUBLISH
BEGIN:VEVENT
UID:69e5b6975ede0
DTSTAMP:20260420T051607Z
DTSTART:20261104T173000Z
DTEND:20261104T190000Z
LOCATION:Feuerwehrhaus Unterbrunn Dorfstrasse 2\,  82131 Gauting – Unterbrunn
SUMMARY:Übung Jugend-Feuerwehr
DESCRIPTION:Übungstermine der Jugendfeuerwehr – immer am 1. und 3. Mittw
 och im Monat (nicht an Feiertagen und nur außerhalb der Ferien) Du kannst 
 jederzeit bei einer Übung vorbeischauen und dann entscheiden\,  ob die Feu
 erwehr das richtige für dich ist. Wir freuen uns auf Dich!\nhttps://feuerw
 ehr-unterbrunn.de/termine/uebung-jugend-feuerwehr/var/ri-21.l-L1
URL:https://feuerwehr-unterbrunn.de/termine/uebung-jugend-feuerwehr/var/ri-21.l-L1
END:VEVENT
END:VCALENDAR