BEGIN:VCALENDAR
VERSION:2.0
PRODID:-//eventon.com NONSGML v1.0//EN
CALSCALE:GREGORIAN
METHOD:PUBLISH
BEGIN:VEVENT
UID:69e5b678ab342
DTSTAMP:20260420T051536Z
DTSTART:20260621T050000Z
DTEND:20260621T215900Z
LOCATION:Startrampe Seifenkistenrennen Kreuzung AmRain/Am Hang\,  82131 Gauting / Unterbrunn
SUMMARY:FFW und Oldi Ausflug
DESCRIPTION:Die Freiwillige Feuerwehr und der Unterbrunner Oldtimer-Club ma
 chen gemeinsam einen Ausflug in das Feuerwehrmuseum. Weitere Infos folgen. 
 &nbsp;\nhttps://feuerwehr-unterbrunn.de/termine/unterbrunner-seifenkistenre
 nnen-2026/
URL:https://feuerwehr-unterbrunn.de/termine/unterbrunner-seifenkistenrennen-2026/
END:VEVENT
END:VCALENDAR