BEGIN:VCALENDAR
VERSION:2.0
PRODID:-//eventon.com NONSGML v1.0//EN
CALSCALE:GREGORIAN
METHOD:PUBLISH
BEGIN:VEVENT
UID:69e5b5d33c375
DTSTAMP:20260420T051251Z
DTSTART:20260425T170000Z
DTEND:20260425T215900Z
LOCATION:Feuerwehrhaus Unterbrunn Dorfstrasse 2\,  82131 Gauting – Unterbrunn
SUMMARY:Schlachtschüsselessen
DESCRIPTION:Traditionelles Schlachtschüsselessem der Freiwilligenfeuerwehr
  für Aktive und Passive Mitglieder\nhttps://feuerwehr-unterbrunn.de/termin
 e/schlachtschuesselessen/
URL:https://feuerwehr-unterbrunn.de/termine/schlachtschuesselessen/
END:VEVENT
END:VCALENDAR